Workbook

Sheet Instruction
A1: Nordic Ecolabelling provides a spreadsheet that shall be used by the printing company to demonstrate compliance with the point requirements in the criteria for 041 Printing companies and printed matter, generation 7.
A3: Please follow the instruction below:
A5: Note that You can shift between this instruction sheet and the calculation sheet by clicking on the sheet banners at the bottom with the titles "Instructions" or "Calculations" or you can use CTRL + Page Up and CTRL + Page Down.
A7: Please enter whole numbers withour decimals. Rules of Rounding: General rule of rounding e.g. 0,5 go up, so 4,5 rounds up to 5.
A9: Introduction:
A10: Fill in annual consumption of paper and substrates other than paper in sheet "Printing substrates P1 to P3".
A11: Fill in information (yes og no) on implemented energy efficiency measures in sheet "Energy use P4".
A12: Fill in information (yes/no) whether the if the printing company is certified to calculate climate impact in sheet "CO2 P5"
A13: Fill in tons substrates purchased annually distributed on the printing method and the quantity of tons waste paper in sheet "Waste paper P6"
A14: Fill in tons substrates purchased annually and the annual quantity (kg) of mixed waste in shette "Waste P7"
A15: Fill in use of ecolabelled products and services in sheet "Ecolabelled products P8"
A16: Fill in number of orders produces annualy and fill in number of orders produced using the Nordic Swan logo in sheet "Use of Nordic Swan logo P9"
A19: Table with a summary of all points available

Sheet Printing substrates P1 to P3
A1: Nordic Ecolabelling for Printing Compaines and Printed Matter, Gen 7 (DRAFT for consultation)
A2: Printing substrates
A3: Enter data in the pink fields for calculation of points in P1, P2 and P3.
A6: Printing substrates | B6: Tons substrate purchased/used annually | C6: Share of inspected/ecolabelled paper purchased (%) | D6: Points | E6: P1 | G6: P2 | I6: P3
A7: Total number of tons purchaced substrates | B7: =(B8+B12) -> 3000 | E7: Proportion of purchased paper in relation to the total purchase of tons substrates annually | F7: Points | G7: Proportion of inspected/ecolabelled paper | H7: Points | I7: Proportion of rigid substrates with good recycling properties | J7: Points
A8: Total number of tons purchased paper | B8: 2000 | E8: 90 - 100 % | F8: 1 | G8: 0 - 75 | H8: 0 | I8: 0 - 45 % | J8: 0
A9: Tons Nordic Swan Ecolabelled paper | B9: 600 | C9: =(B9/B8)*100 -> 30 | G9: 76 - 80 | H9: 1 | I9: 46 - 50 % | J9: 1
A10: Tons Inspected paper | B10: 700 | C10: =(B10/B8)*100 -> 35 | G10: 81 - 100 | H10: 2 | I10: 51 - 100 % | J10: 2
A11: Tons EU Ecolabelled paper | B11: 500 | C11: =(B11/B8)*100 -> 25
A12: Total number of purchaced substrates ofter than paper. IF NO SUBSTRATE IS USED ENTER "1" | B12: 1000
A13: Total number of purchaced tonnes of rigid substrated other than paper | B13: 200
A14: Toal number of purchaced tonnes of ridgid substrates with good recycling properties | B14: 50
A15: Rigid substrates are stiff materials that cannot bend or deform without breaking or permanently damaging the material. Common materials are paper-/fibre boards, wood-based panels, boards of plastic (PE, PC, PP and PET), foam boards, metal panels (aluminium) and glass panels. Paper is not defined as rigid substrates. Materials with good recycling properties means: Rigid substrates made of wood fibre (paper-/wood fibre board), mono-materials such as wood, PE, PP, PET, PS and aluminium. Materials with poor recycling properties: Composite rigid substrates (consist of two or more distinct materials), as well as substrates containing PVC or PUR foam.
A17: Paper
A18: Point score P1 Proportion of purchased paper in relation to the total purchase of ton substrates | B18: =(B8/B7)*100 -> 66.666667 | D18: =IF(B18<=89.99,0,IF(B18>=90,1)) -> 0
A20: Point score P2
A21: Nordic Swan Ecolabelled paper has a weight of 1, inspected paper 0.9 and EU Ecolabelled paper 0.8.
A22: Proportion of purchaced inspected/ecolabelled paper in relation to the total purchase for ton paper | B22: =(C9*1)+(C10*0.9)+(C11*0.8) -> 81.5 | D22: =IF(B22<=74.99,0,IF(B22<=79.99,1,2)) -> 2
A24: Substrates other than paper
A25: Point score P3
A26: Proportion of rigid substrates with good recycling properties | B26: =(B14/B13)*100 -> 25 | D26: =IF(B26<=44.99,0,IF(B26<=50.99,1,2)) -> 0
A28: Total points substrates | D28: =(D18+D22+D26) -> 2

Sheet Energy use P4
A1: Nordic Ecolabelling for Printing Compaines and Printed Matter, Gen 7 (DRAFT)
A2: P4 Energy use
A4: The printing company must have implemented/fulfil at least 1 of the energy efficiency measures listed in the table below.
A5: The printing company is awarded up to 2 points depending on which energy efficiency measures listed below have been implemented in the printing company.
A6: Indicate Yes or No in the pink cells for calculation of points in P4
A8: Energy efficiency measures | B8: YES/NO | C8: Points
A9: The company’s total annual energy consumption per ton of purchased substrate is 15% below the applicable threshold specified in O13 e.g. less than 1445 kWh/ton if you are a sheet fed offset printing company (1700*0,85) | B9: yes | C9: =+IF(B9="Yes",2,0) -> 2
A10: Being certified according to an energy management system, for example: • ISO 50001 • ISO 50002 • ISO 14001 (must contain an energy review corresponding to part 6.3 of ISO 50001 upon recertification) | B10: no | C10: =+IF(B10="Yes",1,0) -> 0
A11: Have undergone an energy audit according to • EN 16247 within the last 3 years. • the national implementation of the Energy Efficiency Directive (DIRECTIVE 2012/27/EU, article 8) within the last 4 years. | B11: yes | C11: =+IF(B11="Yes",1,0) -> 1
A12: Based on the energy audit (EN 16247) the company has conducted an energy action plan with specific energy saving targets. | B12: yes | C12: =+IF(B12="Yes",1,0) -> 1
A13: At least 10% of the total annual electricity consumption comes from self-generated electricity generation from solar panels | B13: no | C13: =+IF(B13="Yes",1,0) -> 0
A14: 100% of the company’s vehicles are powered by electricity, HVO100 or hydrogen. | B14: yes | C14: =+IF(B14="Yes",1,0) -> 1
A15: Recover waste heat from compressors, machinery or dryers for space- or water heating | C15: =+IF(B15="Yes",1,0) -> 0
A16: 100% of the purchased electricity is ecolabelled according to Bra Miljöval, EKO Energy or similar | C16: =+IF(B16="Yes",1,0) -> 0
A17: Point score P4 Implemented energy efficiency measures | B17: =+IF(SUM(C9:C16)>2,2,SUM(C9:C16)) -> 2 | C17: Max a total of 2 points

Sheet CO2 P5
A1: Nordic Ecolabelling for Printing Compaines and Printed Matter, Gen 7
A2: P5 CO2 Calculation
A3: The printing company may be awarded 1 point if it is certified to calculate the climate impact of the printing company or individual graphic products under the following conditions:
A4: Indicate Yes or NO in the pink cells for calculation of points in P5
A6: Conditions | B6: Certified to calculate the climate impact | C6: Possible points
A7: The CO2 calculation tool is in compliance with ISO 16759 and the GHG Protocol , such as ClimateCalc . Prerequisites and boundaries underlaying the CO2 calculation tool must be described. The calculation/calculation tool must be certified and verified by independent third-party. If the printing company intends to communicate its CO2 calculations, it must be made clear which emissions sources, CO2 factors, prerequisites and boundaries have been used in the calculation. | B7: no | C7: =IF(B7="Yes",1,0) -> 0
A9: Point score P5 CO2 calculation | B9: =IF(SUM(C7)>1,1,SUM(C7)) -> 0

Sheet Waste paper P6
A1: Nordic Ecolabelling for Printing Compaines and Printed Matter, Gen 7
A2: P6 Waste paper
A3: Enter data in the pink cells for calculation of points in P6
A6: Printing method | B6: Tons substrate purchased/used annually | C6: Threshold value - waste paper (%)
A7: Sheet fed offset | B7: 2000 | C7: 25
A8: Digital printing | B8: 2000 | C8: 18
A9: Coldset, newspapers | C9: 10
A10: Coldset, forms | C10: 17
A11: Coldset rotation (except newspaper and form printing) | C11: 18
A12: Heatset rotation | C12: 21
A13: Flexographic printing | C13: 11
A14: Envelope production with flexography | C14: 15
A15: Tons substrate total | B15: =SUM(B7:B14) -> 4000
A16: Enter quantity of annaual tonns waste paper | B16: 600
A17: Quantity of waste paper % | B17: =(B16/B15)*100 -> 15
A19: Calculation of the threshold value | B19: =(B7/B15)*C7+(B8/B15)*C8+(B9/B15)*C9+(B10/B15)*C10+(B11/B15)*C11+(B12/B15)*C12+(B13/B15)*C13+(B14/B15)*C14 -> 21.5
A20: Point score P7 Waste paper | B20: =IF(B17>=B19,0,IF(B17<B19,2)) -> 2

Sheet Waste P7
A1: Nordic Ecolabelling for Printing Compaines and Printed Matter, Gen 7
A3: P7 Unsorted waste
A4: The printing company is awarded 1 point if the annual quantity of mixed waste* is less than 15 kg per purchased tonne substrate
A5: Enter data in the pink cell for calculation of points in P7
A6: Unsorted waste =unsorted/unsuitable for recycling solid waste that is incinerated or goes to land fill
A9: Enter total number of tons purchaced substrates | B9: 2000
A10: Enter quantity (kg) of annual mixed waste | B10: 18000
A11: Kg mixed waste/ton substrate | B11: =B10/B9 -> 9
A13: Point score P7 mixed waste | B13: =IF(B11>=15,0,IF(B11<15,1)) -> 1

Sheet Ecolabelled products P8
A1: Nordic Ecolabelling for Printing Compaines and Printed Matter, Gen 7
A3: P8 Purchase of Ecolabelled products and services
A4: The printing company is awarded up to 2 points depending on the annual use of ecolabelled products and services. The products or services are listed in the table below:
A6: Indicate Yes or NO in the pink cells for calculation of points in P8
A9: Ecolabelled products and services | B9: YES/NO | C9: Points
A10: 100% by weight of used rags or 90% by weight of used work clothes is cleaned/laundered at a Nordic Swan Ecolabelled textile service | B10: yes | C10: =+IF(B10="Yes",2,0) -> 2
A11: At least 90% by weight of the work clothes used in production are Nordic Swan Ecolabelled or EU ecolabelled | B11: no | C11: =+IF(B11="Yes",1,0) -> 0
A12: 100% use of Nordic Swan Ecolabelled cleaning Services | B12: no | C12: =+IF(B12="Yes",1,0) -> 0
A13: At least 100% by weight of industrial tissue paper used in the printing process (does not include for example hand drying in toilets and the like) is Nordic Swan- or EU ecolabelled | B13: no | C13: =+IF(B13="Yes",1,0) -> 0
A14: 100% use of Nordic Swan Ecolabelled industrial cleaning and degreasing agents | B14: no | C14: =+IF(B14="Yes",1,0) -> 0
A15: 100% use of Nordic Swan Ecolabelled biofuels in either company vehicles or for heating company buildings | B15: no | C15: =+IF(B15="Yes",1,0) -> 0
A16: Point score P8 Purchase of Ecolabelled products and services | B16: =+IF(SUM(C8:C15)>2,2,SUM(C8:C15)) -> 2 | C16: Max a total of 2 points

Sheet Use of Nordic Swan logo P9
A1: Nordic Ecolabelling for Printing Compaines and Printed Matter, Gen 7
A3: P9 Use of Nordic Swan logo on printed matter
A5: The printing company is awarded 1 point if minimum 20% of a) the annual number of orders produced is using the Nordic Swan logo on printed matter or b) the annual share (tons) of printed matter is using the Nordic Swan logo.
A6: Fill in data in the pink cells for calculation of points in P9
A8: Enter the annual a)numbers of produced orders or b)tons printed matter | B8: 5000
A9: Enter the annual a) number of produces orders that are Nordic Swan Ecolabelled printed matter or b) tonns printed matter using the Nordic Swan logo | B9: 2000
A10: Share of produces orders that Nordic Swan Ecolabelled printed matter | B10: =(B9/B8)*100 -> 40
A12: Point score P9 Use of Nordic Swan logo on printed matter | B12: =IF(B10<20,0,IF(B10>=20,1)) -> 1

Sheet Total points
A1: Nordic Ecolabelling for Printing Compaines and Printed Matter, Gen 7
A3: Summery and points
A5: The printing company must score at least 6 points
A6: The table below summarises the point score obtained
A8: Point score requirements | B8: Points achieved | C8: Maximum number of points
A9: P1 Printing substrates | B9: ='Printing substrates P1 to P3'!D18 -> 0 | C9: 1
A10: P2 Inspected and ecolabelled paper | B10: ='Printing substrates P1 to P3'!D22 -> 2 | C10: 2
A11: P3 Rigid substrates with good recycling properties | B11: ='Printing substrates P1 to P3'!D26 -> 0 | C11: 2
A12: P4 Energy use | B12: ='Energy use P4'!B17 -> 2 | C12: 2
A13: P5 CO2 calculation | B13: ='CO2 P5'!B9 -> 0 | C13: 1
A14: P6 Waste paper | B14: ='Waste paper P6'!B20 -> 2 | C14: 2
A15: P7 Unsorted waste | B15: ='Waste P7'!B13 -> 1 | C15: 1
A16: P8 Purchase of ecolabelled products and services | B16: ='Ecolabelled products P8'!B16 -> 2 | C16: 2
A17: P9 Use of Nordic Swan logo on printed matter | B17: ='Use of Nordic Swan logo P9'!B12 -> 1 | C17: 1
A18: Total | B18: =SUM(B8:B17) -> 10 | C18: 14
